BEGIN:VCALENDAR
VERSION:2.0
PRODID:-//gruender-mv.de//EN
BEGIN:VEVENT
UID:69e5079856bd5@gruender-mv.de
DTSTAMP:20260419T164928Z
DTSTART:20230627T210000
DTEND:20230628T000000
SUMMARY:Neue Horizonte: Start-Ups als Innovationsmotor der Region
DESCRIPTION:Politik trifft Start-Ups: gemeinsam Synergien in MV schaffen.
URL:https://gruender-mv.de/events/neue-horizonte-start-ups-als-innovationsmotor-der-region/
END:VEVENT
END:VCALENDAR
