BEGIN:VCALENDAR
VERSION:2.0
PRODID:-//gruender-mv.de//EN
BEGIN:VEVENT
UID:69e4d91db758f@gruender-mv.de
DTSTAMP:20260419T133109Z
DTSTART:20230705T200000
DTEND:19700101T010000
SUMMARY:After Work Run
DESCRIPTION:
URL:https://gruender-mv.de/events/after-work-run/
END:VEVENT
END:VCALENDAR
