BEGIN:VCALENDAR
VERSION:2.0
PRODID:-//gruender-mv.de//EN
BEGIN:VEVENT
UID:69e61a3978e02@gruender-mv.de
DTSTAMP:20260420T122113Z
DTSTART:20230701T030000
DTEND:19700101T010000
SUMMARY:MV - Tag
DESCRIPTION:
URL:https://gruender-mv.de/events/mv-tag/
END:VEVENT
END:VCALENDAR
