BEGIN:VCALENDAR
VERSION:2.0
PRODID:-//gruender-mv.de//EN
BEGIN:VEVENT
UID:69e4da4a2c39d@gruender-mv.de
DTSTAMP:20260419T133610Z
DTSTART:20231128T150000
DTEND:20231128T160000
SUMMARY:Rechnungen und Dokumente digital organisieren
DESCRIPTION:
URL:https://gruender-mv.de/events/rechnungen-und-dokumente-digital-organisieren/
END:VEVENT
END:VCALENDAR
