BEGIN:VCALENDAR
VERSION:2.0
PRODID:-//gruender-mv.de//EN
BEGIN:VEVENT
UID:69e61b08790e9@gruender-mv.de
DTSTAMP:20260420T122440Z
DTSTART:20230920T200000
DTEND:20230921T010000
SUMMARY:11. Gründungsstammtisch Region Rostock mit ACCELERATE:MV
DESCRIPTION:Komm zum 11. Gründungsstammtisch in Rostock und lass uns mit ACCELERATE:MV gemeinsam die Startup-Szene rocken – sei dabei am 20.09.2023.
URL:https://gruender-mv.de/events/11-gruendungsstammtisch-region-rostock-mit-acceleratemv/
END:VEVENT
END:VCALENDAR
