BEGIN:VCALENDAR
VERSION:2.0
PRODID:-//gruender-mv.de//EN
BEGIN:VEVENT
UID:69e4d7dbe34f6@gruender-mv.de
DTSTAMP:20260419T132547Z
DTSTART:20230906T130000
DTEND:19700101T010000
SUMMARY:Innovative Mittagspause
DESCRIPTION:
URL:https://gruender-mv.de/events/innovative-mittagspause-2/
END:VEVENT
END:VCALENDAR
