BEGIN:VCALENDAR
VERSION:2.0
PRODID:-//gruender-mv.de//EN
BEGIN:VEVENT
UID:69e61a376da8f@gruender-mv.de
DTSTAMP:20260420T122111Z
DTSTART:20230913T180000
DTEND:19700101T010000
SUMMARY:fly &amp; surv meets &quot;Himmel der Möwen&quot;
DESCRIPTION:
URL:https://gruender-mv.de/events/fly-surv-meets-himmel-der-moewen/
END:VEVENT
END:VCALENDAR
