BEGIN:VCALENDAR
VERSION:2.0
PRODID:-//gruender-mv.de//EN
BEGIN:VEVENT
UID:69e61a0490fc3@gruender-mv.de
DTSTAMP:20260420T122020Z
DTSTART:20230503T100000
DTEND:19700101T010000
SUMMARY:Early Bird Pilates
DESCRIPTION:
URL:https://gruender-mv.de/events/early-bird-pilates/
END:VEVENT
END:VCALENDAR
