BEGIN:VCALENDAR
VERSION:2.0
PRODID:-//gruender-mv.de//EN
BEGIN:VEVENT
UID:69e619d258c87@gruender-mv.de
DTSTAMP:20260420T121930Z
DTSTART:20220707T120000
DTEND:19700101T010000
SUMMARY:SPiNOFF Businessplan 1: Geschäftsmodell-Entwicklung
DESCRIPTION:
URL:https://gruender-mv.de/events/spinoff-businessplan-1-geschaeftsmodell-entwicklung/
END:VEVENT
END:VCALENDAR
