BEGIN:VCALENDAR
VERSION:2.0
PRODID:-//gruender-mv.de//EN
BEGIN:VEVENT
UID:69e61b06a428c@gruender-mv.de
DTSTAMP:20260420T122438Z
DTSTART:20230919T203000
DTEND:19700101T010000
SUMMARY:Business Punk: how to Logo / CI mit Karen Obenauf
DESCRIPTION:
URL:https://gruender-mv.de/events/business-punk-how-to-logo-ci-mit-karen-obenauf/
END:VEVENT
END:VCALENDAR
