BEGIN:VCALENDAR
VERSION:2.0
PRODID:-//gruender-mv.de//EN
BEGIN:VEVENT
UID:69e61b0735ddc@gruender-mv.de
DTSTAMP:20260420T122439Z
DTSTART:20231012T203000
DTEND:19700101T010000
SUMMARY:Business Punk: Mental Health Special | mit Kristin Rein
DESCRIPTION:
URL:https://gruender-mv.de/events/business-punk-mental-health-special-mit-kristin-rein/
END:VEVENT
END:VCALENDAR
