BEGIN:VCALENDAR
VERSION:2.0
PRODID:-//gruender-mv.de//EN
BEGIN:VEVENT
UID:69e4e7b564902@gruender-mv.de
DTSTAMP:20260419T143325Z
DTSTART:20231122T200000
DTEND:19700101T010000
SUMMARY:Pimp your next Year - Rauhnächte
DESCRIPTION:
URL:https://gruender-mv.de/events/pimp-your-next-year-rauhnaechte/
END:VEVENT
END:VCALENDAR
