BEGIN:VCALENDAR
VERSION:2.0
PRODID:-//gruender-mv.de//EN
BEGIN:VEVENT
UID:69e617aa1cd87@gruender-mv.de
DTSTAMP:20260420T121018Z
DTSTART:20231020T140000
DTEND:20231020T160000
SUMMARY:BITS&amp;MATJES #9: Digitale Vermarktungsmöglichkeiten an einem maritimen Stand
DESCRIPTION:BITS&amp;MATJES #9: Digitale Vermarktungsmöglichkeiten an einem maritimen Standort
URL:https://gruender-mv.de/events/bitsmatjes-9-digitale-vermarktungsmoeglichkeiten-an-einem-maritimen-stand/
END:VEVENT
END:VCALENDAR
