BEGIN:VCALENDAR
VERSION:2.0
PRODID:-//gruender-mv.de//EN
BEGIN:VEVENT
UID:69e619d0abffd@gruender-mv.de
DTSTAMP:20260420T121928Z
DTSTART:20230918T120000
DTEND:20230918T021400
SUMMARY:Ankommen &amp; Orientieren Hochschule Stralsund
DESCRIPTION:
URL:https://gruender-mv.de/events/ankommen-orientieren-hochschule-stralsund/
END:VEVENT
END:VCALENDAR
