BEGIN:VCALENDAR
VERSION:2.0
PRODID:-//gruender-mv.de//EN
BEGIN:VEVENT
UID:69e61b1165f49@gruender-mv.de
DTSTAMP:20260420T122449Z
DTSTART:20231011T210000
DTEND:19700101T010000
SUMMARY:12min.me 
DESCRIPTION:
URL:https://gruender-mv.de/events/12min-me/
END:VEVENT
END:VCALENDAR
