BEGIN:VCALENDAR
VERSION:2.0
PRODID:-//gruender-mv.de//EN
BEGIN:VEVENT
UID:69e4da81c0897@gruender-mv.de
DTSTAMP:20260419T133705Z
DTSTART:20231012T140000
DTEND:20231012T021300
SUMMARY:Workshop III zum Businessplanwettbewerb
DESCRIPTION:
URL:https://gruender-mv.de/events/workshop-iii-zum-businessplanwettbewerb/
END:VEVENT
END:VCALENDAR
