BEGIN:VCALENDAR
VERSION:2.0
PRODID:-//gruender-mv.de//EN
BEGIN:VEVENT
UID:69e66bd8a28b1@gruender-mv.de
DTSTAMP:20260420T180928Z
DTSTART:20231108T190000
DTEND:20231108T011900
SUMMARY:„Die DNA eines Startups – Wie definiere ich Leitbild, Vision und Ziele meines Unternehmens?“
DESCRIPTION:
URL:https://gruender-mv.de/events/die-dna-eines-startups-wie-definiere-ich-leitbild-vision-und-ziele-meines-unternehmens/
END:VEVENT
END:VCALENDAR
