BEGIN:VCALENDAR
VERSION:2.0
PRODID:-//gruender-mv.de//EN
BEGIN:VEVENT
UID:69e61b03ee13a@gruender-mv.de
DTSTAMP:20260420T122435Z
DTSTART:20240402T160000
DTEND:20240402T191500
SUMMARY:UDUH: Corporate Social Responsibility
DESCRIPTION:
URL:https://gruender-mv.de/events/uduh-corporate-social-responsibility/
END:VEVENT
END:VCALENDAR
