BEGIN:VCALENDAR
VERSION:2.0
PRODID:-//gruender-mv.de//EN
BEGIN:VEVENT
UID:69e4d90066e26@gruender-mv.de
DTSTAMP:20260419T133040Z
DTSTART:20231129T190000
DTEND:20231129T011900
SUMMARY:„Erfolgreiches Marketing für nachhaltiges Business.“ Das Survival-Kit für Founder, Teams &amp; Startups.
DESCRIPTION:
URL:https://gruender-mv.de/events/erfolgreiches-marketing-fuer-nachhaltiges-business-das-survival-kit-fuer-founder-teams-startups/
END:VEVENT
END:VCALENDAR
