BEGIN:VCALENDAR
VERSION:2.0
PRODID:-//gruender-mv.de//EN
BEGIN:VEVENT
UID:69e4da82bca28@gruender-mv.de
DTSTAMP:20260419T133706Z
DTSTART:20230928T100000
DTEND:20231008T180000
SUMMARY:Einführungskurs 3D-Druck
DESCRIPTION:Einführungs- und Grundlagenkurs 3D-Druck (Hard- und Software)
URL:https://gruender-mv.de/events/einfuehrungskurs-3d-druck-6/
END:VEVENT
END:VCALENDAR
