BEGIN:VCALENDAR
VERSION:2.0
PRODID:-//gruender-mv.de//EN
BEGIN:VEVENT
UID:69e4d7982b381@gruender-mv.de
DTSTAMP:20260419T132440Z
DTSTART:20231115T120000
DTEND:20231115T133000
SUMMARY:Neue Formen der Unternehmensführung/ New Work
DESCRIPTION:mit Karl Kuba (Universitäts- und Hansestadt Greifswald) und Steffen Piechullek (IHK Neubrandenburg für das östliche Mecklenburg-Vorpommern)
URL:https://gruender-mv.de/events/neue-formen-der-unternehmensfuehrung-new-work/
END:VEVENT
END:VCALENDAR
