BEGIN:VCALENDAR
VERSION:2.0
PRODID:-//gruender-mv.de//EN
BEGIN:VEVENT
UID:69e4d82a60814@gruender-mv.de
DTSTAMP:20260419T132706Z
DTSTART:20231115T100000
DTEND:20231115T200000
SUMMARY:Gründungstag 2 -GESAMT-
DESCRIPTION:Eine Anmeldung für alle Veranstaltungen im Rahmen der Gründungstage am 15. November 2023.
URL:https://gruender-mv.de/events/gruendungstag-2-gesamt/
END:VEVENT
END:VCALENDAR
