BEGIN:VCALENDAR
VERSION:2.0
PRODID:-//gruender-mv.de//EN
BEGIN:VEVENT
UID:69e4d91e26374@gruender-mv.de
DTSTAMP:20260419T133110Z
DTSTART:20210913T190000
DTEND:20210913T210000
SUMMARY:Workshop zum Thema Schutz vor Hackerangriffen
DESCRIPTION:Workshop zum Thema Schutz vor Hackerangriffen
URL:https://gruender-mv.de/events/workshop-zum-thema-schutz-vor-hackerangriffen/
END:VEVENT
END:VCALENDAR
