BEGIN:VCALENDAR
VERSION:2.0
PRODID:-//gruender-mv.de//EN
BEGIN:VEVENT
UID:69e4da826262b@gruender-mv.de
DTSTAMP:20260419T133706Z
DTSTART:20231120T160000
DTEND:20231120T180000
SUMMARY:Steuerliche Fallstricke
DESCRIPTION:
URL:https://gruender-mv.de/events/steuerliche-fallstricke/
END:VEVENT
END:VCALENDAR
