BEGIN:VCALENDAR
VERSION:2.0
PRODID:-//gruender-mv.de//EN
BEGIN:VEVENT
UID:69e61884c8e97@gruender-mv.de
DTSTAMP:20260420T121356Z
DTSTART:20231215T110000
DTEND:19700101T010010
SUMMARY:UDUH: Finanzierung von Social Entrepreneurship
DESCRIPTION:
URL:https://gruender-mv.de/events/uduh-finanzierung-von-social-entrepreneurship/
END:VEVENT
END:VCALENDAR
