BEGIN:VCALENDAR
VERSION:2.0
PRODID:-//gruender-mv.de//EN
BEGIN:VEVENT
UID:69e4d797cc1cd@gruender-mv.de
DTSTAMP:20260419T132439Z
DTSTART:20231115T180000
DTEND:20231115T220000
SUMMARY:5. Gründungsstammtisch Region Wismar mit dem InnovationPort
DESCRIPTION:Im Rahmen der StartUp-Expo 2023 in Wismar findet am 15. November im InnovationPort unser fünfte Stammtisch statt.
URL:https://gruender-mv.de/events/5-gruendungsstammtisch-region-wismar-mit-dem-innovationport/
END:VEVENT
END:VCALENDAR
