BEGIN:VCALENDAR
VERSION:2.0
PRODID:-//gruender-mv.de//EN
BEGIN:VEVENT
UID:69e618bdbc07e@gruender-mv.de
DTSTAMP:20260420T121453Z
DTSTART:20220401T203000
DTEND:20220402T003000
SUMMARY:12MIN.ME | Rügen: Ignite Talks &amp; Networking #3
DESCRIPTION:Reif für die Insel? Im Rahmen des ersten Coworking Festival Mecklenburg-Vorpommern&#039;s gibt es endlich wieder 12MIN.ME auf Rügen!
URL:https://gruender-mv.de/events/12min-me-ruegen-ignite-talks-networking-3/
END:VEVENT
END:VCALENDAR
