BEGIN:VCALENDAR
VERSION:2.0
PRODID:-//gruender-mv.de//EN
BEGIN:VEVENT
UID:69e61a0413fca@gruender-mv.de
DTSTAMP:20260420T122020Z
DTSTART:20240109T170000
DTEND:19700101T010016
SUMMARY:UDUH: Präsentationstraining II (online)
DESCRIPTION:
URL:https://gruender-mv.de/events/uduh-praesentationstraining-ii-online/
END:VEVENT
END:VCALENDAR
