BEGIN:VCALENDAR
VERSION:2.0
PRODID:-//gruender-mv.de//EN
BEGIN:VEVENT
UID:69e4d9e190dfa@gruender-mv.de
DTSTAMP:20260419T133425Z
DTSTART:20231213T180000
DTEND:20231213T220000
SUMMARY:Preisverleihung - WWG Innovation Pitch 2023
DESCRIPTION:
URL:https://gruender-mv.de/events/preisverleihung-wwg-innovation-pitch-2023/
END:VEVENT
END:VCALENDAR
