BEGIN:VCALENDAR
VERSION:2.0
PRODID:-//gruender-mv.de//EN
BEGIN:VEVENT
UID:69e648a2baa79@gruender-mv.de
DTSTAMP:20260420T153914Z
DTSTART:20220825T103000
DTEND:19700101T010000
SUMMARY:SPiNOFF Breakfast August
DESCRIPTION:
URL:https://gruender-mv.de/events/spinoff-breakfast-august/
END:VEVENT
END:VCALENDAR
