BEGIN:VCALENDAR
VERSION:2.0
PRODID:-//gruender-mv.de//EN
BEGIN:VEVENT
UID:69e619d086715@gruender-mv.de
DTSTAMP:20260420T121928Z
DTSTART:20231221T223000
DTEND:20231221T010000
SUMMARY:Kurzfilmtag 2023
DESCRIPTION:
URL:https://gruender-mv.de/events/kurzfilmtag-2023/
END:VEVENT
END:VCALENDAR
