BEGIN:VCALENDAR
VERSION:2.0
PRODID:-//gruender-mv.de//EN
BEGIN:VEVENT
UID:69e618bdb58f1@gruender-mv.de
DTSTAMP:20260420T121453Z
DTSTART:20240320T170000
DTEND:20240320T190000
SUMMARY:Digital-Café Hohenkirchen
DESCRIPTION:
URL:https://gruender-mv.de/events/digital-cafe-hohenkirchen-3/
END:VEVENT
END:VCALENDAR
