BEGIN:VCALENDAR
VERSION:2.0
PRODID:-//gruender-mv.de//EN
BEGIN:VEVENT
UID:69e4d9e063edf@gruender-mv.de
DTSTAMP:20260419T133424Z
DTSTART:20240913T080000
DTEND:20241209T160000
SUMMARY:Online-Zertifikatslehrgang: Nachhaltiges Lieferkettenmanagement (IHK)
DESCRIPTION:
URL:https://gruender-mv.de/events/online-zertifikatslehrgang-nachhaltiges-lieferkettenmanagement-ihk/
END:VEVENT
END:VCALENDAR
