BEGIN:VCALENDAR
VERSION:2.0
PRODID:-//gruender-mv.de//EN
BEGIN:VEVENT
UID:69e619dd7447a@gruender-mv.de
DTSTAMP:20260420T121941Z
DTSTART:20240122T090000
DTEND:20240126T103000
SUMMARY:Digitale Aktionswoche ZOLL 
DESCRIPTION:
URL:https://gruender-mv.de/events/digitale-aktionswoche-zoll/
END:VEVENT
END:VCALENDAR
