BEGIN:VCALENDAR
VERSION:2.0
PRODID:-//gruender-mv.de//EN
BEGIN:VEVENT
UID:69e627d5eac2c@gruender-mv.de
DTSTAMP:20260420T131917Z
DTSTART:20240110T100000
DTEND:19700101T010000
SUMMARY:HandsOn KI
DESCRIPTION:
URL:https://gruender-mv.de/events/handson-ki/
END:VEVENT
END:VCALENDAR
