BEGIN:VCALENDAR
VERSION:2.0
PRODID:-//gruender-mv.de//EN
BEGIN:VEVENT
UID:69e61864eeafc@gruender-mv.de
DTSTAMP:20260420T121324Z
DTSTART:20220923T170000
DTEND:20220924T013000
SUMMARY:Nordpreneur 2022 - Gründungswerft &amp; Flensburg
DESCRIPTION:Am 23. September findet der StartUp-Wettbewerb für den gesamten Norden in Flensburg statt. Die Gründungswerft e.V. ist am Start.
URL:https://gruender-mv.de/events/nordpreneur-2022-gruendungswerft-flensburg/
END:VEVENT
END:VCALENDAR
