BEGIN:VCALENDAR
VERSION:2.0
PRODID:-//gruender-mv.de//EN
BEGIN:VEVENT
UID:69e61b09d2e4b@gruender-mv.de
DTSTAMP:20260420T122441Z
DTSTART:20240314T170000
DTEND:19700101T010016
SUMMARY:Workshop: Grundlagen 3D-Druck
DESCRIPTION:
URL:https://gruender-mv.de/events/workshop-grundlagen-3d-druck/
END:VEVENT
END:VCALENDAR
