BEGIN:VCALENDAR
VERSION:2.0
PRODID:-//gruender-mv.de//EN
BEGIN:VEVENT
UID:69e61b118712c@gruender-mv.de
DTSTAMP:20260420T122449Z
DTSTART:20240326T160000
DTEND:20240326T191500
SUMMARY:UDUH: LinkedIn – Social Media Marketing in der Praxis
DESCRIPTION:
URL:https://gruender-mv.de/events/uduh-linkedin-social-media-marketing-in-der-praxis/
END:VEVENT
END:VCALENDAR
