BEGIN:VCALENDAR
VERSION:2.0
PRODID:-//gruender-mv.de//EN
BEGIN:VEVENT
UID:69e4da82e19d0@gruender-mv.de
DTSTAMP:20260419T133706Z
DTSTART:20240612T150000
DTEND:20240612T170000
SUMMARY:Sprachcafé
DESCRIPTION:
URL:https://gruender-mv.de/events/sprachcafe/
END:VEVENT
END:VCALENDAR
