BEGIN:VCALENDAR
VERSION:2.0
PRODID:-//gruender-mv.de//EN
BEGIN:VEVENT
UID:69e619de09bf1@gruender-mv.de
DTSTAMP:20260420T121942Z
DTSTART:20240321T140000
DTEND:20240321T160000
SUMMARY:Onlineveranstaltung: Zeit und Geld sparen mit KI - Künstliche Intelligenz für Handwerk und KMU
DESCRIPTION:
URL:https://gruender-mv.de/events/onlineveranstaltung-zeit-und-geld-sparen-mit-ki-kuenstliche-intelligenz-fuer-handwerk-und-kmu/
END:VEVENT
END:VCALENDAR
