BEGIN:VCALENDAR
VERSION:2.0
PRODID:-//gruender-mv.de//EN
BEGIN:VEVENT
UID:69e4da48174d5@gruender-mv.de
DTSTAMP:20260419T133608Z
DTSTART:20240319T190000
DTEND:20240319T210000
SUMMARY:Auf einen Drink mit... Anton Hannig
DESCRIPTION:Bitcoin &amp; Aktien: Sei das schwarze Schaf
URL:https://gruender-mv.de/events/auf-einen-drink-mit-anton-hannig-2/
END:VEVENT
END:VCALENDAR
