BEGIN:VCALENDAR
VERSION:2.0
PRODID:-//gruender-mv.de//EN
BEGIN:VEVENT
UID:69e4d9211ef5b@gruender-mv.de
DTSTAMP:20260419T133113Z
DTSTART:20240404T140000
DTEND:20240404T163000
SUMMARY:IHK-Regionalkonferenz für Vorpommern-Rügen 2024
DESCRIPTION:
URL:https://gruender-mv.de/events/ihk-regionalkonferenz-fuer-vorpommern-ruegen-2024/
END:VEVENT
END:VCALENDAR
