BEGIN:VCALENDAR
VERSION:2.0
PRODID:-//gruender-mv.de//EN
BEGIN:VEVENT
UID:69e61b10592fc@gruender-mv.de
DTSTAMP:20260420T122448Z
DTSTART:20240416T100000
DTEND:20240417T170000
SUMMARY:Social Entrepreneurship Camp 2024
DESCRIPTION:
URL:https://gruender-mv.de/events/social-entrepreneurship-camp-2024/
END:VEVENT
END:VCALENDAR
