BEGIN:VCALENDAR
VERSION:2.0
PRODID:-//gruender-mv.de//EN
BEGIN:VEVENT
UID:69e648ea709dc@gruender-mv.de
DTSTAMP:20260420T154026Z
DTSTART:20240425T173000
DTEND:20240425T220000
SUMMARY:Unternehmen der Zukunft Vol. 2: Unternehmensvision
DESCRIPTION:Wie unterschiedlich gehen Startups und KMU an das Thema Unternehmensvision heran? Was kann man voneinander lernen? Sei dabei!
URL:https://gruender-mv.de/events/unternehmen-der-zukunft-vol-2-unternehmensvision/
END:VEVENT
END:VCALENDAR
