BEGIN:VCALENDAR
VERSION:2.0
PRODID:-//gruender-mv.de//EN
BEGIN:VEVENT
UID:69e4d9e41da90@gruender-mv.de
DTSTAMP:20260419T133428Z
DTSTART:20240522T180000
DTEND:20240522T220000
SUMMARY:2. Gründungsstammtisch Region Ludwigslust
DESCRIPTION:Gründungsstammtisch Ludwigslust
URL:https://gruender-mv.de/events/2-gruendungsstammtisch-region-ludwigslust/
END:VEVENT
END:VCALENDAR
