BEGIN:VCALENDAR
VERSION:2.0
PRODID:-//gruender-mv.de//EN
BEGIN:VEVENT
UID:69e619dcf1689@gruender-mv.de
DTSTAMP:20260420T121940Z
DTSTART:20240321T120000
DTEND:20240321T123000
SUMMARY:Gemeinsam machen wir Ihre Idee wahr - UNIQUE Ideenwettbewerb 2024
DESCRIPTION:
URL:https://gruender-mv.de/events/gemeinsam-machen-wir-ihre-idee-wahr-unique-ideenwettbewerb-2024/
END:VEVENT
END:VCALENDAR
