BEGIN:VCALENDAR
VERSION:2.0
PRODID:-//gruender-mv.de//EN
BEGIN:VEVENT
UID:69e619206e867@gruender-mv.de
DTSTAMP:20260420T121632Z
DTSTART:20240327T173000
DTEND:20240322T193000
SUMMARY:#GemeinsamNetzwerken - Wirtschaftsstammtisch März 2024
DESCRIPTION:
URL:https://gruender-mv.de/events/gemeinsamnetzwerken-wirtschaftsstammtisch-maerz-2024/
END:VEVENT
END:VCALENDAR
