BEGIN:VCALENDAR
VERSION:2.0
PRODID:-//gruender-mv.de//EN
BEGIN:VEVENT
UID:69e56688b3c08@gruender-mv.de
DTSTAMP:20260419T233432Z
DTSTART:20240918T020000
DTEND:20240918T020000
SUMMARY:Von Herzen Gründen
DESCRIPTION:
URL:https://gruender-mv.de/events/von-herzen-gruenden/
END:VEVENT
END:VCALENDAR
