BEGIN:VCALENDAR
VERSION:2.0
PRODID:-//gruender-mv.de//EN
BEGIN:VEVENT
UID:69e4da82b4218@gruender-mv.de
DTSTAMP:20260419T133706Z
DTSTART:20240411T100000
DTEND:20240411T180000
SUMMARY:Innovative Regionalkonferenz
DESCRIPTION:
URL:https://gruender-mv.de/events/innovative-regionalkonferenz/
END:VEVENT
END:VCALENDAR
