BEGIN:VCALENDAR
VERSION:2.0
PRODID:-//gruender-mv.de//EN
BEGIN:VEVENT
UID:69e6279609a60@gruender-mv.de
DTSTAMP:20260420T131814Z
DTSTART:20240416T090000
DTEND:20240416T103000
SUMMARY:Gründen mit KI: Wie ChatGPT dein Startup erfolgreicher macht
DESCRIPTION:
URL:https://gruender-mv.de/events/gruenden-mit-ki-wie-chatgpt-dein-startup-erfolgreicher-macht/
END:VEVENT
END:VCALENDAR
